BEGIN:VCALENDAR
VERSION:2.0
PRODID:-//TDJ Comics Studio - ECPv6.15.20//NONSGML v1.0//EN
CALSCALE:GREGORIAN
METHOD:PUBLISH
X-WR-CALNAME:TDJ Comics Studio
X-ORIGINAL-URL:https://tdjcomics.com
X-WR-CALDESC:Events for TDJ Comics Studio
REFRESH-INTERVAL;VALUE=DURATION:PT1H
X-Robots-Tag:noindex
X-PUBLISHED-TTL:PT1H
BEGIN:VTIMEZONE
TZID:America/New_York
BEGIN:DAYLIGHT
TZOFFSETFROM:-0500
TZOFFSETTO:-0400
TZNAME:EDT
DTSTART:20240310T070000
END:DAYLIGHT
BEGIN:STANDARD
TZOFFSETFROM:-0400
TZOFFSETTO:-0500
TZNAME:EST
DTSTART:20241103T060000
END:STANDARD
BEGIN:DAYLIGHT
TZOFFSETFROM:-0500
TZOFFSETTO:-0400
TZNAME:EDT
DTSTART:20250309T070000
END:DAYLIGHT
BEGIN:STANDARD
TZOFFSETFROM:-0400
TZOFFSETTO:-0500
TZNAME:EST
DTSTART:20251102T060000
END:STANDARD
BEGIN:DAYLIGHT
TZOFFSETFROM:-0500
TZOFFSETTO:-0400
TZNAME:EDT
DTSTART:20260308T070000
END:DAYLIGHT
BEGIN:STANDARD
TZOFFSETFROM:-0400
TZOFFSETTO:-0500
TZNAME:EST
DTSTART:20261101T060000
END:STANDARD
END:VTIMEZONE
BEGIN:VEVENT
DTSTART;VALUE=DATE:20251017
DTEND;VALUE=DATE:20251020
DTSTAMP:20260425T072409
CREATED:20241126T183441Z
LAST-MODIFIED:20241126T183441Z
UID:26943-1760659200-1760918399@tdjcomics.com
SUMMARY:Baltimore Comic Con 2025
DESCRIPTION:Table Info: To Be Announced! \n“America’s Greatest Comic Book Convention!” is celebrating its 26th year! The Baltimore Comic-Con is held in the fall annually and hosts a variety of comic creator guests\, retailers\, and exhibitors\, plus events during the show.
URL:https://tdjcomics.com/event/baltimore-comic-con-2025/
LOCATION:Baltimore Convention Center\, 1 West Pratt Street\, Baltimore\, MD\, 21201\, United States
ATTACH;FMTTYPE=image/jpeg:https://tdjcomics.com/wp-content/uploads/2024/11/462671438_959395899557071_6421864286242110737_n.jpg
END:VEVENT
BEGIN:VEVENT
DTSTART;VALUE=DATE:20250823
DTEND;VALUE=DATE:20250825
DTSTAMP:20260425T072409
CREATED:20241230T030641Z
LAST-MODIFIED:20241230T030757Z
UID:27078-1755907200-1756079999@tdjcomics.com
SUMMARY:Fairfax Comic Con 2025
DESCRIPTION:Fairfax\, Virginia’s Very Own Comic Con! Comics\, Toys\, Cosplay\, Pop Culture\, and More since 2018. \nTable Info: To Be Announced!
URL:https://tdjcomics.com/event/fairfax-comic-con-2025/
LOCATION:Dulles Expo Center\, 4320 Chantilly Shopping Center\, Chantilly\, VA\, 20151\, United States
ATTACH;FMTTYPE=image/jpeg:https://tdjcomics.com/wp-content/uploads/2024/04/430011634_926950955862736_1756871752646497701_n.jpg
END:VEVENT
BEGIN:VEVENT
DTSTART;VALUE=DATE:20250712
DTEND;VALUE=DATE:20250714
DTSTAMP:20260425T072409
CREATED:20250424T023442Z
LAST-MODIFIED:20250424T023442Z
UID:27169-1752278400-1752451199@tdjcomics.com
SUMMARY:Cosplay World 2025
DESCRIPTION:Where COSPLAY Reigns SUPREME! \n\n\n\n\n\n\n\n\n\nCosplay World is an event that focuses on the Art of Cosplaying! The team behind Cosplay World are all frequent attendees of events throughout the year\, with interests in various geek-esque areas from games to film\, comics to cartoons\, but we all have one thing in common- we love cosplay! So we decided to make an event which focuses on all things cosplay\, photographer collaboration\, skill building\, knowledge sharing\, and technique mastering!
URL:https://tdjcomics.com/event/cosplay-world-2025/
LOCATION:Richmond Convention Center\, 403 N 3rd St\, Richmond\, VA\, 23219\, United States
ATTACH;FMTTYPE=image/jpeg:https://tdjcomics.com/wp-content/uploads/2025/04/490217279_18007628396740942_8946575132367362183_n.jpg
END:VEVENT
BEGIN:VEVENT
DTSTART;VALUE=DATE:20250531
DTEND;VALUE=DATE:20250602
DTSTAMP:20260425T072409
CREATED:20250126T000145Z
LAST-MODIFIED:20250126T000145Z
UID:27099-1748649600-1748822399@tdjcomics.com
SUMMARY:Big Lick Comic Con 2025
DESCRIPTION:This is the ultimate celebration of all things comic\, toy\, gaming\, and pop culture alike! With over 250 exhibitors\, you’ll experience a fantastic display of amazing artists and creators\, engaging activities\, a thrilling main stage\, high-profile celebrities\, an extensive gaming area\, and much more!
URL:https://tdjcomics.com/event/big-lick-comic-con-2025/
LOCATION:Dulles Expo Center\, 4320 Chantilly Shopping Center\, Chantilly\, VA\, 20151\, United States
ATTACH;FMTTYPE=image/jpeg:https://tdjcomics.com/wp-content/uploads/2025/01/454446277_912505567561357_1149267130983656639_n.jpg
END:VEVENT
BEGIN:VEVENT
DTSTART;TZID=America/New_York:20250517T110000
DTEND;TZID=America/New_York:20250517T160000
DTSTAMP:20260425T072409
CREATED:20250415T160814Z
LAST-MODIFIED:20250415T160814Z
UID:27161-1747479600-1747497600@tdjcomics.com
SUMMARY:VA Comicon 2025
DESCRIPTION:The Richmond\, VA Comicon. We have been Richmond’s Comic Con for 30+ years! \nWe are at Table B11!
URL:https://tdjcomics.com/event/va-comicon-2025/
LOCATION:Richmond Raceway\, 600 E. Laburnum Ave\, Richmond\, VA\, 23222\, United States
ATTACH;FMTTYPE=image/jpeg:https://tdjcomics.com/wp-content/uploads/2025/04/VA-Comicon.jpg
END:VEVENT
END:VCALENDAR